BEGIN:VCALENDAR
PRODID:-//AT Content Types//AT Event//EN
VERSION:1.0
BEGIN:VEVENT
DTSTART:20220508T110000Z
DTEND:20220508T220000Z
DCREATED:20211213T165443Z
UID:ATEvent-b42ac2c114cc4a3cb2278c0886231a66
SEQUENCE:0
LAST-MODIFIED:20211213T165443Z
SUMMARY:Hunter Pace
LOCATION:Equestrian side
PRIORITY:3
TRANSP:0
END:VEVENT
END:VCALENDAR
