BEGIN:VCALENDAR
PRODID:-//AT Content Types//AT Event//EN
VERSION:2.0
METHOD:PUBLISH
BEGIN:VEVENT
DTSTAMP:20260423T141839Z
CREATED:20170105T155106Z
UID:ATEvent-fa49cbb86c9b40a7b9d2fb4b8c5b335a
LAST-MODIFIED:20170105T155107Z
SUMMARY:Hunter Pace
DTSTART:20170219T140000Z
DTEND:20170219T190000Z
LOCATION:FENCE Equestrian Side
CATEGORIES:Horse Show
CONTACT:Tracie Hanson\, 8288599021\, info@fence.org
CLASS:PUBLIC
END:VEVENT
END:VCALENDAR
