BEGIN:VCALENDAR
PRODID:-//AT Content Types//AT Event//EN
VERSION:2.0
METHOD:PUBLISH
BEGIN:VEVENT
DTSTAMP:20260423T114917Z
CREATED:20241219T150305Z
UID:ATEvent-44507458852d46508684b3488a894b3f
LAST-MODIFIED:20241219T150305Z
SUMMARY:Hunt Country Schooling
DTSTART:20250118T130000Z
DTEND:20250119T220000Z
LOCATION:FENCE Equestrian Side
CONTACT:Suzanne & Mark Feagan
URL:http://www.huntingcountryschoolingdays.com
CLASS:PUBLIC
END:VEVENT
END:VCALENDAR
