BEGIN:VCALENDAR
PRODID:-//AT Content Types//AT Event//EN
VERSION:2.0
METHOD:PUBLISH
BEGIN:VEVENT
DTSTAMP:20260423T115245Z
CREATED:20250820T145243Z
UID:ATEvent-583f26655ce04a819e9e4041541fd93a
LAST-MODIFIED:20250820T145243Z
SUMMARY:Hunt Country Schooling
DTSTART:20251213T130000Z
DTEND:20251215T010000Z
CATEGORIES:Schooling
CLASS:PUBLIC
END:VEVENT
END:VCALENDAR
