BEGIN:VCALENDAR
PRODID:-//AT Content Types//AT Event//EN
VERSION:2.0
METHOD:PUBLISH
BEGIN:VEVENT
DTSTAMP:20260423T080812Z
CREATED:20250619T155914Z
UID:ATEvent-ee4e5c45be7f4ffe92b2ee5a72f64016
LAST-MODIFIED:20250619T155929Z
SUMMARY:Hunt Country Schooling
DTSTART:20251011T120000Z
DTEND:20251012T210000Z
CATEGORIES:Schooling
CONTACT:Suzanne & Mark Feagan
CLASS:PUBLIC
END:VEVENT
END:VCALENDAR
