BEGIN:VCALENDAR
PRODID:-//AT Content Types//AT Event//EN
VERSION:1.0
BEGIN:VEVENT
DTSTART:20250301T130000Z
DTEND:20250301T220000Z
DCREATED:20250212T135022Z
UID:ATEvent-3bd28883bf1344c288b486d885a2e9f8
SEQUENCE:0
LAST-MODIFIED:20250212T135022Z
SUMMARY:Hunt Country Schooling
LOCATION:FENCE XC
PRIORITY:3
TRANSP:0
END:VEVENT
END:VCALENDAR
