BEGIN:VCALENDAR
PRODID:-//AT Content Types//AT Event//EN
VERSION:1.0
BEGIN:VEVENT
DTSTART:20251122T130000Z
DTEND:20251123T220000Z
DCREATED:20241219T210035Z
UID:ATEvent-3624625d80ef44758c83223d29c11bfb
SEQUENCE:0
LAST-MODIFIED:20241219T210035Z
SUMMARY:Hunt Country Schooling
LOCATION:FENCE Equestrian
PRIORITY:3
TRANSP:0
END:VEVENT
END:VCALENDAR
