BEGIN:VCALENDAR
PRODID:-//AT Content Types//AT Event//EN
VERSION:2.0
METHOD:PUBLISH
BEGIN:VEVENT
DTSTAMP:20260423T071451Z
CREATED:20241219T194846Z
UID:ATEvent-c0dc971595774413baf0c0aa59314c5b
LAST-MODIFIED:20250619T155502Z
SUMMARY:Hunt Country Schooling
DTSTART:20250830T120000Z
DTEND:20250831T210000Z
LOCATION:FENCE Equestrian
CATEGORIES:Schooling
CONTACT:Suzanne & Mark Feagan
URL:http://www.huntingcountryschoolingdays.com
CLASS:PUBLIC
END:VEVENT
END:VCALENDAR
