BEGIN:VCALENDAR
PRODID:-//AT Content Types//AT Event//EN
VERSION:2.0
METHOD:PUBLISH
BEGIN:VEVENT
DTSTAMP:20260423T142222Z
CREATED:20240111T154712Z
UID:ATEvent-11b9bcf84e0a4669982531f92384a129
LAST-MODIFIED:20240111T154712Z
SUMMARY:Howl at the Moon
DTSTART:20240907T230000Z
DTEND:20240908T020000Z
LOCATION:FENCE Center
CATEGORIES:Family
CONTACT:Tracie Hanson \, 8288599021\, info@fence.org
CLASS:PUBLIC
END:VEVENT
END:VCALENDAR
