BEGIN:VCALENDAR
PRODID:-//AT Content Types//AT Event//EN
VERSION:2.0
METHOD:PUBLISH
BEGIN:VEVENT
DTSTAMP:20260423T130920Z
CREATED:20211213T164249Z
UID:ATEvent-e8ee21bc78b34d109f89e9f165a1621e
LAST-MODIFIED:20211213T164249Z
SUMMARY:Horse Trials
DTSTART:20220416T110000Z
DTEND:20220417T220000Z
LOCATION:Equestrian side/Cross Country Course
CATEGORIES:Horse Show
CONTACT:8288599021\, info@fence.org
CLASS:PUBLIC
END:VEVENT
END:VCALENDAR
