BEGIN:VCALENDAR
PRODID:-//AT Content Types//AT Event//EN
VERSION:1.0
BEGIN:VEVENT
DTSTART:20180618T123000Z
DTEND:20180622T163000Z
DCREATED:20171114T180229Z
UID:ATEvent-52bf43f802bb4bf29047a8a820c3b7e6
SEQUENCE:0
LAST-MODIFIED:20180116T154914Z
SUMMARY:FENCE Horse Camp
LOCATION:FENCE Center
PRIORITY:3
TRANSP:0
END:VEVENT
END:VCALENDAR
