BEGIN:VCALENDAR
PRODID:-//AT Content Types//AT Event//EN
VERSION:2.0
METHOD:PUBLISH
BEGIN:VEVENT
DTSTAMP:20260420T202513Z
CREATED:20251217T175305Z
UID:ATEvent-4484a84500ce4efbb6e02c2bde174008
LAST-MODIFIED:20251217T175305Z
SUMMARY:Horse Camp Week 2
DTSTART:20260608T130000Z
DTEND:20260612T170000Z
CATEGORIES:Childrens Day Camp
CONTACT:ashley@fence.org
CLASS:PUBLIC
END:VEVENT
END:VCALENDAR
