BEGIN:VCALENDAR
PRODID:-//AT Content Types//AT Event//EN
VERSION:1.0
BEGIN:VEVENT
DTSTART:20260601T130000Z
DTEND:20260605T170000Z
DCREATED:20251217T170527Z
UID:ATEvent-6d951aba685547f4bee3f81244de4e0d
SEQUENCE:0
LAST-MODIFIED:20251217T175316Z
SUMMARY:Horse Camp Week 1
PRIORITY:3
TRANSP:0
END:VEVENT
END:VCALENDAR
