BEGIN:VCALENDAR
PRODID:-//AT Content Types//AT Event//EN
VERSION:1.0
BEGIN:VEVENT
DTSTART:20230612T123000Z
DTEND:20230616T163000Z
DCREATED:20230117T200320Z
UID:ATEvent-42e6ca9abb7141c88fff11d1795eea50
SEQUENCE:0
LAST-MODIFIED:20230119T212817Z
SUMMARY:Horse Camp
DESCRIPTION:We offer two weeks of Horse Camp\, in which campers learn 
 basic equine care and riding from a qualified instructor. Each week is
  $225 per camper and held 8:30 am – 12:30 pm.
LOCATION:FENCE Center
PRIORITY:3
TRANSP:0
END:VEVENT
END:VCALENDAR
