BEGIN:VCALENDAR
PRODID:-//AT Content Types//AT Event//EN
VERSION:2.0
METHOD:PUBLISH
BEGIN:VEVENT
DTSTAMP:20260423T140629Z
CREATED:20211213T170229Z
UID:ATEvent-aab324f38e59494b89f16230da9077d0
LAST-MODIFIED:20220407T195820Z
SUMMARY:FULL-Horse Camp
DTSTART:20220620T123000Z
DTEND:20220624T163000Z
LOCATION:FENCE Center
CATEGORIES:Family
CONTACT:8288599021\, info@fence.org
CLASS:PUBLIC
END:VEVENT
END:VCALENDAR
