BEGIN:VCALENDAR
PRODID:-//AT Content Types//AT Event//EN
VERSION:2.0
METHOD:PUBLISH
BEGIN:VEVENT
DTSTAMP:20260423T105313Z
CREATED:20211213T170154Z
UID:ATEvent-4109e718b56041288780aa4bb838ba18
LAST-MODIFIED:20220407T195802Z
SUMMARY:FULL-Horse Camp
DTSTART:20220613T123000Z
DTEND:20220617T163000Z
LOCATION:FENCE Center
CATEGORIES:Family
CONTACT:8288599021\, info@fence.org
CLASS:PUBLIC
END:VEVENT
END:VCALENDAR
