BEGIN:VCALENDAR
PRODID:-//AT Content Types//AT Event//EN
VERSION:2.0
METHOD:PUBLISH
BEGIN:VEVENT
DTSTAMP:20260420T202224Z
CREATED:20210317T124611Z
UID:ATEvent-bf3a43207d0e43c1bbc01bdc8093d2f2
LAST-MODIFIED:20210317T124611Z
SUMMARY:Horse Camp
DTSTART:20210621T123000Z
DTEND:20210625T163000Z
LOCATION:FENCE Center
CATEGORIES:Childrens Day Camp
CONTACT:TRACIE HANSON\, 8288599021\, natureeducation@fence.org
CLASS:PUBLIC
END:VEVENT
END:VCALENDAR
