BEGIN:VCALENDAR
PRODID:-//AT Content Types//AT Event//EN
VERSION:2.0
METHOD:PUBLISH
BEGIN:VEVENT
DTSTAMP:20260423T140715Z
CREATED:20210317T124426Z
UID:ATEvent-6094306cdefb48ab83f504eebd68170d
LAST-MODIFIED:20210317T124426Z
SUMMARY:Horse Camp
DTSTART:20210614T123000Z
DTEND:20210618T163000Z
LOCATION:FENCE Center
CATEGORIES:Childrens Day Camp
CONTACT:Tracie Hanson\, 8288599021\, natureeducation@fence.org
CLASS:PUBLIC
END:VEVENT
END:VCALENDAR
