BEGIN:VCALENDAR
PRODID:-//AT Content Types//AT Event//EN
VERSION:2.0
METHOD:PUBLISH
BEGIN:VEVENT
DTSTAMP:20260421T034419Z
CREATED:20200109T220708Z
UID:ATEvent-27ddf8881797493cb0f1c6fce13bd0ca
LAST-MODIFIED:20200208T015241Z
SUMMARY:Horse Camp
DTSTART:20200622T123000Z
DTEND:20200626T163000Z
DESCRIPTION:Learn the basics of horse riding! Camp runs 8:30-12:30 dai
 ly for children ages 5-12. This second week is typically best for chil
 dren with intermediate riding skills\, but all levels of riding experi
 ence are accepted.
LOCATION:FENCE Center
CATEGORIES:Childrens Day Camp
CONTACT:Tracie Hanson\, 8288599021\, info@fence.org
URL:http://www.fence.org/nature-center/day-camps/applications-releases
CLASS:PUBLIC
END:VEVENT
END:VCALENDAR
