BEGIN:VCALENDAR
PRODID:-//AT Content Types//AT Event//EN
VERSION:2.0
METHOD:PUBLISH
BEGIN:VEVENT
DTSTAMP:20260420T192353Z
CREATED:20200109T220614Z
UID:ATEvent-4ef53ded6fcd4b0da1bddd376a0de569
LAST-MODIFIED:20200208T014700Z
SUMMARY:Horse Camp
DTSTART:20200615T123000Z
DTEND:20200619T163000Z
DESCRIPTION:Learn the basics of horse riding! Camp runs 8:30-12:30 dai
 ly for children ages 5-12. This first week is typically best for begin
 ners\, but all levels of riding experience are accepted. Fill out an a
 pplication and mail or drop off at FENCE.
LOCATION:FENCE Center
CATEGORIES:Childrens Day Camp
CONTACT:Tracie Hanson\, 8288599021\, info@fence.org
URL:http://www.fence.org/nature-center/day-camps/applications-releases
CLASS:PUBLIC
END:VEVENT
END:VCALENDAR
