BEGIN:VCALENDAR
PRODID:-//AT Content Types//AT Event//EN
VERSION:2.0
METHOD:PUBLISH
BEGIN:VEVENT
DTSTAMP:20260420T173003Z
CREATED:20181016T201131Z
UID:ATEvent-d1c98a3b9f704ffc978374fee1ef4580
LAST-MODIFIED:20181016T201131Z
SUMMARY:Horse Camp
DTSTART:20190617T123000Z
DTEND:20190621T163000Z
DESCRIPTION:Learn the basics of horse riding! Camp runs 8:30-12:30 dai
 ly for children ages 5-12. This second week is typically best for chil
 dren with intermediate riding skills\, but all levels of riding experi
 ence are accepted. Fill out an application and mail or drop off at FEN
 CE.
CATEGORIES:Childrens Day Camp
CONTACT:828-859-9021\, info@fence.org
CLASS:PUBLIC
END:VEVENT
END:VCALENDAR
