BEGIN:VCALENDAR
PRODID:-//AT Content Types//AT Event//EN
VERSION:2.0
METHOD:PUBLISH
BEGIN:VEVENT
DTSTAMP:20260421T133814Z
CREATED:20230928T184040Z
UID:ATEvent-5ea76c02ad894970b0443f14e39d724d
LAST-MODIFIED:20230928T184040Z
SUMMARY:Horse Camp
DTSTART:20240612T123000Z
DTEND:20240612T163000Z
DESCRIPTION:Half Day $225
LOCATION:FENCE Equestrian Side
CATEGORIES:Childrens Day Camp
CONTACT:8288599021\, info@fence.org
CLASS:PUBLIC
END:VEVENT
END:VCALENDAR
