BEGIN:VCALENDAR
PRODID:-//AT Content Types//AT Event//EN
VERSION:1.0
BEGIN:VEVENT
DTSTART:20240607T123000Z
DTEND:20240607T163000Z
DCREATED:20230928T183629Z
UID:ATEvent-1792fd6dbec04d99affeb4611c92ccc6
SEQUENCE:0
LAST-MODIFIED:20230928T183630Z
SUMMARY:Horse Camp
DESCRIPTION:Half Day $225
LOCATION:FENCE Equestrian Side
PRIORITY:3
TRANSP:0
END:VEVENT
END:VCALENDAR
