BEGIN:VCALENDAR
PRODID:-//AT Content Types//AT Event//EN
VERSION:1.0
BEGIN:VEVENT
DTSTART:20240604T123000Z
DTEND:20240604T163000Z
DCREATED:20230928T183426Z
UID:ATEvent-b7859a4b51ac4687af0f05ef5a947dac
SEQUENCE:0
LAST-MODIFIED:20230928T183426Z
SUMMARY:Horse Camp
DESCRIPTION:Half Day $225
LOCATION:FENCE Equestrian Side
PRIORITY:3
TRANSP:0
END:VEVENT
END:VCALENDAR
