BEGIN:VCALENDAR
PRODID:-//AT Content Types//AT Event//EN
VERSION:1.0
BEGIN:VEVENT
DTSTART:20240606T123000Z
DTEND:20240606T163000Z
DCREATED:20230928T183151Z
UID:ATEvent-e1fe83337fc7486a8cad1187741a27f1
SEQUENCE:0
LAST-MODIFIED:20230928T183151Z
SUMMARY:Horse Camp
DESCRIPTION:Half Day $225
LOCATION:FENCE Equestrian Side
PRIORITY:3
TRANSP:0
END:VEVENT
END:VCALENDAR
