BEGIN:VCALENDAR
PRODID:-//AT Content Types//AT Event//EN
VERSION:1.0
BEGIN:VEVENT
DTSTART:20230619T123000Z
DTEND:20230623T163000Z
DCREATED:20230117T200407Z
UID:ATEvent-844acc7b2d804929855828e8c8ae828e
SEQUENCE:0
LAST-MODIFIED:20230515T203438Z
SUMMARY:Horse Camp - This camp is FULL
DESCRIPTION:We offer two weeks of Horse Camp\, in which campers learn 
 basic equine care and riding from a qualified instructor. Each week is
  $225 per camper and held 8:30 am – 12:30 pm.
LOCATION:FENCE Center
PRIORITY:3
TRANSP:0
END:VEVENT
END:VCALENDAR
