BEGIN:VCALENDAR
PRODID:-//AT Content Types//AT Event//EN
VERSION:2.0
METHOD:PUBLISH
BEGIN:VEVENT
DTSTAMP:20260420T225222Z
CREATED:20181016T200939Z
UID:ATEvent-e87e1b6455fb46b1bb6c946247ac5078
LAST-MODIFIED:20181016T200939Z
SUMMARY:Horse Camp
DTSTART:20190610T123000Z
DTEND:20190614T163000Z
DESCRIPTION:Learn the basics of horse riding! Camp runs 8:30-12:30 dai
 ly for children ages 5-12. This first week is typically best for begin
 ners\, but all levels of riding experience are accepted. Fill out an a
 pplication and mail or drop off at FENCE.
CATEGORIES:Childrens Day Camp
CONTACT:828-859-9021\, info@fence.org
CLASS:PUBLIC
END:VEVENT
END:VCALENDAR
