BEGIN:VCALENDAR
PRODID:-//AT Content Types//AT Event//EN
VERSION:1.0
BEGIN:VEVENT
DTSTART:20200516T150000Z
DTEND:20200516T160000Z
DCREATED:20200208T032125Z
UID:ATEvent-d9204c5d24324b2eb52a09dbc3d91939
SEQUENCE:0
LAST-MODIFIED:20200513T171642Z
SUMMARY:Postponed: Honeybee presentation and tasting
DESCRIPTION:We are planing to reschedule this event for the Fall. Hune
 ygrams Honeybees joins us at FENCE for a presentation about Honeybees 
 followed by a honey tasting.
LOCATION:FENCE center
PRIORITY:3
TRANSP:0
END:VEVENT
END:VCALENDAR
