BEGIN:VCALENDAR
PRODID:-//AT Content Types//AT Event//EN
VERSION:1.0
BEGIN:VEVENT
DTSTART:20211202T230000Z
DTEND:20211203T013000Z
DCREATED:20211115T175308Z
UID:ATEvent-50b07d0d23cb45cfa5c55f1b97455d8b
SEQUENCE:0
LAST-MODIFIED:20211115T175308Z
SUMMARY:Holiday Wine and Paint Night
DESCRIPTION:Space is limited\, please register in advance. $45 per per
 son includes all supplies.\nCall Fence at 828-859-9021 or email info@f
 ence.org to register.
LOCATION:FENCE Center
PRIORITY:3
TRANSP:0
END:VEVENT
END:VCALENDAR
