BEGIN:VCALENDAR
PRODID:-//AT Content Types//AT Event//EN
VERSION:1.0
BEGIN:VEVENT
DTSTART:20221218T210000Z
DTEND:20221218T220000Z
DCREATED:20221129T013521Z
UID:ATEvent-6a9bda30a7fc4f9f980b158160f2569d
SEQUENCE:0
LAST-MODIFIED:20221129T014529Z
SUMMARY:Holiday concert with Blue Ridge Ringers
DESCRIPTION:The Blue Ridge Ringers\, a regional hand bell ensemble\, w
 ill present a concert of "Rings & Rhythms of the Season". This is a wo
 nderful and diverse selection of music to get you into the spirit of t
 he season.  Come and enjoy at FENCE on Sunday\, December 18th at 4:00 
 PM.
LOCATION:FENCE Center
PRIORITY:3
TRANSP:0
END:VEVENT
END:VCALENDAR
