BEGIN:VCALENDAR
PRODID:-//AT Content Types//AT Event//EN
VERSION:1.0
BEGIN:VEVENT
DTSTART:20160611T120000Z
DTEND:20160612T210000Z
DCREATED:20160108T135907Z
UID:ATEvent-0d00715a-d3f9-421b-b594-4a108fb7df09
SEQUENCE:0
LAST-MODIFIED:20160108T135907Z
SUMMARY:High Flyer Dog Agility
LOCATION:FENCE Equestrian Side
PRIORITY:3
TRANSP:0
END:VEVENT
END:VCALENDAR
