BEGIN:VCALENDAR
PRODID:-//AT Content Types//AT Event//EN
VERSION:1.0
BEGIN:VEVENT
DTSTART:20190622T120000Z
DTEND:20190623T210000Z
DCREATED:20181016T200410Z
UID:ATEvent-5e295bb325124b3ea3a4b4c46cb8bd96
SEQUENCE:0
LAST-MODIFIED:20181016T200410Z
SUMMARY:High Flyer Dog Agility
LOCATION:FENCE Equestrian Side
PRIORITY:3
TRANSP:0
END:VEVENT
END:VCALENDAR
