BEGIN:VCALENDAR
PRODID:-//AT Content Types//AT Event//EN
VERSION:1.0
BEGIN:VEVENT
DTSTART:20190601T120000Z
DTEND:20190602T210000Z
DCREATED:20181016T200004Z
UID:ATEvent-b8d93d73777c489eac7754ba4162bf5f
SEQUENCE:0
LAST-MODIFIED:20181016T200004Z
SUMMARY:High Flyer Dog Agility
LOCATION:FENCE Equestrian Side
PRIORITY:3
TRANSP:0
END:VEVENT
END:VCALENDAR
