BEGIN:VCALENDAR
PRODID:-//AT Content Types//AT Event//EN
VERSION:1.0
BEGIN:VEVENT
DTSTART:20200229T160000Z
DTEND:20200229T170000Z
DCREATED:20200109T215216Z
UID:ATEvent-017f4af408774fe6a56758213ddb5f13
SEQUENCE:0
LAST-MODIFIED:20200114T013250Z
SUMMARY:Hazards in the outdoors (Plants/Fungi) Talk
DESCRIPTION:Join\, naturalist\, Carlton Burke as he discusses hazards 
 we may encounter in the plant & fungi world.
LOCATION:FENCE Center
PRIORITY:3
TRANSP:0
END:VEVENT
END:VCALENDAR
