BEGIN:VCALENDAR
PRODID:-//AT Content Types//AT Event//EN
VERSION:2.0
METHOD:PUBLISH
BEGIN:VEVENT
DTSTAMP:20260423T225249Z
CREATED:20180116T161254Z
UID:ATEvent-4775f6c5cead41ae85119bf78ac49a9d
LAST-MODIFIED:20180807T181046Z
SUMMARY:Harmon Classics September Spectacular
DTSTART:20180901T120000Z
DTEND:20180902T210000Z
DESCRIPTION:Harmon Classics September Spectacular sanctioned by BRHJA\
 , SCHJA\, NCHJA
LOCATION:FENCE Equestrian Side
CATEGORIES:Horse Show
CONTACT:Lewis Pack\, info@fence.org
URL:http://harmonclassics.com/
CLASS:PUBLIC
END:VEVENT
END:VCALENDAR
