BEGIN:VCALENDAR
PRODID:-//AT Content Types//AT Event//EN
VERSION:1.0
BEGIN:VEVENT
DTSTART:20170901T120000Z
DTEND:20170903T210000Z
DCREATED:20170105T191924Z
UID:ATEvent-f5f9a4a9e38b4b4a910355d95797dfad
SEQUENCE:0
LAST-MODIFIED:20170105T191925Z
SUMMARY:Harmon Classics Labor Day Spectacular
LOCATION:FENCE Equestrian Side
PRIORITY:3
TRANSP:0
END:VEVENT
END:VCALENDAR
