BEGIN:VCALENDAR
PRODID:-//AT Content Types//AT Event//EN
VERSION:1.0
BEGIN:VEVENT
DTSTART:20200611T120000Z
DTEND:20200614T210000Z
DCREATED:20190724T155159Z
UID:ATEvent-029cd00a35c545d7bbc0e7835cc1e60d
SEQUENCE:0
LAST-MODIFIED:20200110T213633Z
SUMMARY:Harmon Classics Derby Mania
PRIORITY:3
TRANSP:0
END:VEVENT
END:VCALENDAR
