BEGIN:VCALENDAR
PRODID:-//AT Content Types//AT Event//EN
VERSION:1.0
BEGIN:VEVENT
DTSTART:20170615T120000Z
DTEND:20170618T210000Z
DCREATED:20170105T174231Z
UID:ATEvent-5b8c0ece82e24024a76ed0823828d453
SEQUENCE:0
LAST-MODIFIED:20170105T174232Z
SUMMARY:Harmon Classics Derby Mania
LOCATION:FENCE Equestrian Side
PRIORITY:3
TRANSP:0
END:VEVENT
END:VCALENDAR
