BEGIN:VCALENDAR
PRODID:-//AT Content Types//AT Event//EN
VERSION:2.0
METHOD:PUBLISH
BEGIN:VEVENT
DTSTAMP:20260423T105034Z
CREATED:20251217T163605Z
UID:ATEvent-f56a78d2324e42e89c83131c3ee16163
LAST-MODIFIED:20251217T163605Z
SUMMARY:Harmon Classics
DTSTART:20260515T120000Z
DTEND:20260517T210000Z
CATEGORIES:Horse Show
CONTACT:Lewis Pack
CLASS:PUBLIC
END:VEVENT
END:VCALENDAR
