BEGIN:VCALENDAR
PRODID:-//AT Content Types//AT Event//EN
VERSION:2.0
METHOD:PUBLISH
BEGIN:VEVENT
DTSTAMP:20260423T105034Z
CREATED:20260122T210008Z
UID:ATEvent-2059119d6acf475094124031fd890206
LAST-MODIFIED:20260122T210008Z
SUMMARY:Harmon Classic
DTSTART:20261023T130000Z
DTEND:20261024T000000Z
CONTACT:Lewis Pack
CLASS:PUBLIC
END:VEVENT
END:VCALENDAR
