BEGIN:VCALENDAR
PRODID:-//AT Content Types//AT Event//EN
VERSION:1.0
BEGIN:VEVENT
DTSTART:20210617T120000Z
DTEND:20210620T210000Z
DCREATED:20210122T203345Z
UID:ATEvent-38c1b3ce105a4baf80a24fa22b65c417
SEQUENCE:0
LAST-MODIFIED:20210122T203346Z
SUMMARY:Harmon Classic Debry Mania
LOCATION:FENCE Equestrian Side
PRIORITY:3
TRANSP:0
END:VEVENT
END:VCALENDAR
