BEGIN:VCALENDAR
PRODID:-//AT Content Types//AT Event//EN
VERSION:2.0
METHOD:PUBLISH
BEGIN:VEVENT
DTSTAMP:20260423T130803Z
CREATED:20260122T210042Z
UID:ATEvent-ebc27e7a54164f9cb81199a3eaff89b6
LAST-MODIFIED:20260122T210054Z
SUMMARY:Harmon Classic
DTSTART:20261023T120000Z
DTEND:20261025T230000Z
CATEGORIES:Horse Show
CONTACT:Lewis Pack
CLASS:PUBLIC
END:VEVENT
END:VCALENDAR
