BEGIN:VCALENDAR
PRODID:-//AT Content Types//AT Event//EN
VERSION:1.0
BEGIN:VEVENT
DTSTART:20161124T050000Z
DTEND:20161125T220000Z
DCREATED:20151027T194110Z
UID:ATEvent-dd634f91-12ac-4394-9810-bcc78f3b62df
SEQUENCE:0
LAST-MODIFIED:20151027T194110Z
SUMMARY:Happy Thanksgiving-FENCE closed
PRIORITY:3
TRANSP:0
END:VEVENT
END:VCALENDAR
