BEGIN:VCALENDAR
PRODID:-//AT Content Types//AT Event//EN
VERSION:2.0
METHOD:PUBLISH
BEGIN:VEVENT
DTSTAMP:20260423T141935Z
CREATED:20251217T175548Z
UID:ATEvent-a00eafa15fef4f9abea00671555875e1
LAST-MODIFIED:20251217T175548Z
SUMMARY:Half Day Camp
DTSTART:20260622T130000Z
DTEND:20260626T170000Z
CATEGORIES:Childrens Day Camp
CONTACT:ashley@fence.org
CLASS:PUBLIC
END:VEVENT
END:VCALENDAR
