BEGIN:VCALENDAR
PRODID:-//AT Content Types//AT Event//EN
VERSION:2.0
METHOD:PUBLISH
BEGIN:VEVENT
DTSTAMP:20260423T071736Z
CREATED:20241119T150418Z
UID:ATEvent-d3456bafcbf34dfc81d169cbe1a99259
LAST-MODIFIED:20241119T150419Z
SUMMARY:Half Day Camp Week 2
DTSTART:20250721T040000Z
DTEND:20250726T035500Z
DESCRIPTION:Details to come.
CATEGORIES:Childrens Day Camp
CLASS:PUBLIC
END:VEVENT
END:VCALENDAR
