BEGIN:VCALENDAR
PRODID:-//AT Content Types//AT Event//EN
VERSION:1.0
BEGIN:VEVENT
DTSTART:20260720T130000Z
DTEND:20260724T170000Z
DCREATED:20251217T181218Z
UID:ATEvent-fe17271ac3644fdf9a8d0aac6f1443aa
SEQUENCE:0
LAST-MODIFIED:20251217T181218Z
SUMMARY:Half Day Camp
PRIORITY:3
TRANSP:0
END:VEVENT
END:VCALENDAR
