BEGIN:VCALENDAR
PRODID:-//AT Content Types//AT Event//EN
VERSION:2.0
METHOD:PUBLISH
BEGIN:VEVENT
DTSTAMP:20260423T131928Z
CREATED:20140120T220125Z
UID:ATEvent-b0ba05ae-264d-4b92-b05a-5969729be81f
LAST-MODIFIED:20140715T164551Z
SUMMARY:Speaker Simon Thompson on Birds in Western NC
DTSTART:20140813T140000Z
DTEND:20140813T150000Z
DESCRIPTION:With a wide range of habitats and elevations in our corner
  of the state\, birding is very popular here in WNC. We will explore w
 hat birds we can expect throughout the year and talk about the best lo
 cations to go to see a wide selection of species.
LOCATION:Fence Center
CATEGORIES:Family
CONTACT:Tracie Hanson\, 8288599021\, info@fence.org
CLASS:PUBLIC
END:VEVENT
END:VCALENDAR
