BEGIN:VCALENDAR
PRODID:-//AT Content Types//AT Event//EN
VERSION:2.0
METHOD:PUBLISH
BEGIN:VEVENT
DTSTAMP:20260423T193053Z
CREATED:20150114T162724Z
UID:ATEvent-428723ef-adc1-4a3e-8983-2aea8432bcc7
LAST-MODIFIED:20150114T162724Z
SUMMARY:Greenville Pony Club Cross Country Schooling
DTSTART:20150425T130000Z
DTEND:20150425T200000Z
LOCATION:Fence Center
CATEGORIES:Schooling
CONTACT:Sandy Larson\,  864-660-9001\, sandra.f.larson@gmail.com
CLASS:PUBLIC
END:VEVENT
END:VCALENDAR
