BEGIN:VCALENDAR
PRODID:-//AT Content Types//AT Event//EN
VERSION:1.0
BEGIN:VEVENT
DTSTART:20141025T120000Z
DTEND:20141026T210000Z
DCREATED:20140103T195509Z
UID:ATEvent-4dfe12c6-b140-4119-b9f5-b6df0cb458cf
SEQUENCE:0
LAST-MODIFIED:20140103T195509Z
SUMMARY:Golden Retriever Tracking Event
PRIORITY:3
TRANSP:0
END:VEVENT
END:VCALENDAR
