BEGIN:VCALENDAR
PRODID:-//AT Content Types//AT Event//EN
VERSION:1.0
BEGIN:VEVENT
DTSTART:20220403T160000Z
DTEND:20220403T200000Z
DCREATED:20211213T164104Z
UID:ATEvent-ff346fbcb4574711a86be8362abb68d4
SEQUENCE:0
LAST-MODIFIED:20220311T185656Z
SUMMARY:Go Fly a Kite Day
DESCRIPTION:After a 2 year hiatus\, FENCE is so excited to bring Go Fl
 y a Kite Day back this Spring! Join us for this free community event! 
 Free kites will be given out to the first 200 kids. Snacks and drinks 
 are provided for all.
LOCATION:FENCE Center
PRIORITY:3
TRANSP:0
END:VEVENT
END:VCALENDAR
